BEGIN:VCALENDAR
VERSION:2.0
PRODID:SchoolNow
CALSCALE:GREGORIAN
BEGIN:VEVENT
UID:2d383dea-dd8f-11ef-b4f5-0e956362e35d
DTSTAMP:20250128T154728Z
SUMMARY:Boys (Mohawk Valley Jugglers) Varsity Ice Hockey @ Baldwinsville
LOCATION:Bville - Three Rivers Athletic Complex (TRAC)
URL;VALUE=URI:https://www.uticaschools.org/departments/athletics/calendar/7
 386100/boys-mohawk-valley-jugglers-varsity-ice-hockey-baldwinsville
DTSTART:20250124T000000Z
DTEND:20250124T020000Z
END:VEVENT
END:VCALENDAR
