BEGIN:VCALENDAR
VERSION:2.0
PRODID:SchoolNow
CALSCALE:GREGORIAN
BEGIN:VEVENT
UID:2ef28f00-dd8f-11ef-a28e-0e956362e35d
DTSTAMP:20250128T154730Z
SUMMARY:Girls Varsity Volleyball v. Oneida
LOCATION:PHS Main Gym
URL;VALUE=URI:https://www.uticaschools.org/departments/athletics/calendar/7
 386434/girls-varsity-volleyball-v-oneida
DTSTART:20250107T000000Z
DTEND:20250107T010000Z
END:VEVENT
END:VCALENDAR
