BEGIN:VCALENDAR
VERSION:2.0
PRODID:SchoolNow
CALSCALE:GREGORIAN
BEGIN:VEVENT
UID:309c4a80-dd8f-11ef-8bdd-0e956362e35d
DTSTAMP:20250128T154733Z
SUMMARY:Girls (DMS) 7th/8th Volleyball v. Central Valley Academy (Blue)
LOCATION:Donovan Gym
URL;VALUE=URI:https://www.uticaschools.org/departments/athletics/calendar/7
 386844/girls-dms-7th-8th-volleyball-v-central-valley-academy-blue
DTSTART:20250110T213000Z
DTEND:20250110T223000Z
END:VEVENT
END:VCALENDAR
