BEGIN:VCALENDAR
VERSION:2.0
PRODID:SchoolNow
CALSCALE:GREGORIAN
BEGIN:VEVENT
UID:31e6ae80-dd8f-11ef-9770-0e956362e35d
DTSTAMP:20250128T154735Z
SUMMARY:Boys Varsity Swimming/Diving Cooperstown (Cooperstown/Cherry Valley
 )\, Syracuse City (Syracuse City) @ Rome Free Academy
LOCATION:RFA Pool
URL;VALUE=URI:https://www.uticaschools.org/departments/athletics/calendar/7
 387190/boys-varsity-swimming-diving-cooperstown-cooperstown-cherry-valley-
 syracuse-city-syracuse-city-rome-free-academy
DTSTART:20250123T220000Z
DTEND:20250123T230000Z
END:VEVENT
END:VCALENDAR
