BEGIN:VCALENDAR
VERSION:2.0
PRODID:SchoolNow
CALSCALE:GREGORIAN
BEGIN:VEVENT
UID:352986e4-dd8f-11ef-9387-0e956362e35d
DTSTAMP:20250128T154741Z
SUMMARY:(B) JV Basketball - Practice (6:00 PM)
LOCATION:PHS Main Gym
URL;VALUE=URI:https://www.uticaschools.org/departments/athletics/calendar/7
 387839/b-jv-basketball-practice-6-00-pm
DTSTART:20241125T230000Z
DTEND:20241126T010000Z
END:VEVENT
END:VCALENDAR
