BEGIN:VCALENDAR
VERSION:2.0
PRODID:SchoolNow
CALSCALE:GREGORIAN
BEGIN:VEVENT
UID:35ac349a-dd8f-11ef-b045-0e956362e35d
DTSTAMP:20250128T154742Z
SUMMARY:(G) JV Basketball - Practice (1:00 PM)
LOCATION:PHS Main Gym
URL;VALUE=URI:https://www.uticaschools.org/departments/athletics/calendar/7
 388028/g-jv-basketball-practice-1-00-pm
DTSTART:20250103T180000Z
DTEND:20250103T200000Z
END:VEVENT
END:VCALENDAR
