BEGIN:VCALENDAR
VERSION:2.0
PRODID:SchoolNow
CALSCALE:GREGORIAN
BEGIN:VEVENT
UID:36bffe7a-dd8f-11ef-91f1-0e956362e35d
DTSTAMP:20250128T154744Z
SUMMARY:Boys Varsity Swimming/Diving Holland Patent\, Sherburne-Earlville\,
  New Hartford\, Oneida @ Rome Free Academy
LOCATION:RFA Pool
URL;VALUE=URI:https://www.uticaschools.org/departments/athletics/calendar/7
 388183/boys-varsity-swimming-diving-holland-patent-sherburne-earlville-new
 -hartford-oneida-rome-free-academy
DTSTART:20250130T220000Z
DTEND:20250130T230000Z
END:VEVENT
END:VCALENDAR
