BEGIN:VCALENDAR
VERSION:2.0
PRODID:SchoolNow
CALSCALE:GREGORIAN
BEGIN:VEVENT
UID:36c0573a-dd8f-11ef-80e7-0e956362e35d
DTSTAMP:20250128T154744Z
SUMMARY:Boys Varsity Winter Track v. TBD
LOCATION:(OCC) Onondaga Community College
URL;VALUE=URI:https://www.uticaschools.org/departments/athletics/calendar/7
 388220/boys-varsity-winter-track-v-tbd
DTSTART:20250118T200000Z
DTEND:20250118T210000Z
END:VEVENT
END:VCALENDAR
