BEGIN:VCALENDAR
VERSION:2.0
PRODID:SchoolNow
CALSCALE:GREGORIAN
BEGIN:VEVENT
UID:2479d4a2-1f1a-11f1-8eb2-0a58a9feac02
DTSTAMP:20260330T195547Z
SUMMARY:PS: Physics REGENTS EXAM
URL;VALUE=URI:https://www.uticaschools.org/departments/guidance-counseling-
 services/calendar/8915521/ps-physics-regents-exam
DTSTART:20260610T160000Z
DTEND:20260610T180000Z
END:VEVENT
END:VCALENDAR
