BEGIN:VCALENDAR
VERSION:2.0
PRODID:SchoolNow
CALSCALE:GREGORIAN
BEGIN:VEVENT
UID:fc0e3100-217d-11f1-98b0-0a58a9feac02
DTSTAMP:20260330T195547Z
SUMMARY:AP English Lit. Exam - SENIORS
URL;VALUE=URI:https://www.uticaschools.org/departments/guidance-counseling-
 services/calendar/8923027/ap-english-lit-exam-seniors
DTSTART:20260506T120000Z
DTEND:20260506T150000Z
END:VEVENT
END:VCALENDAR
